BEGIN:VCALENDAR
VERSION:2.0
PRODID:-//Ecole Sainte Jeanne d&#039;Arc Mouvaux - ECPv6.15.20//NONSGML v1.0//EN
CALSCALE:GREGORIAN
METHOD:PUBLISH
X-WR-CALNAME:Ecole Sainte Jeanne d&#039;Arc Mouvaux
X-ORIGINAL-URL:https://sjamouvaux.com
X-WR-CALDESC:Évènements pour Ecole Sainte Jeanne d&#039;Arc Mouvaux
REFRESH-INTERVAL;VALUE=DURATION:PT1H
X-Robots-Tag:noindex
X-PUBLISHED-TTL:PT1H
BEGIN:VTIMEZONE
TZID:Europe/Paris
BEGIN:DAYLIGHT
TZOFFSETFROM:+0100
TZOFFSETTO:+0200
TZNAME:CEST
DTSTART:20220327T010000
END:DAYLIGHT
BEGIN:STANDARD
TZOFFSETFROM:+0200
TZOFFSETTO:+0100
TZNAME:CET
DTSTART:20221030T010000
END:STANDARD
BEGIN:DAYLIGHT
TZOFFSETFROM:+0100
TZOFFSETTO:+0200
TZNAME:CEST
DTSTART:20230326T010000
END:DAYLIGHT
BEGIN:STANDARD
TZOFFSETFROM:+0200
TZOFFSETTO:+0100
TZNAME:CET
DTSTART:20231029T010000
END:STANDARD
BEGIN:DAYLIGHT
TZOFFSETFROM:+0100
TZOFFSETTO:+0200
TZNAME:CEST
DTSTART:20240331T010000
END:DAYLIGHT
BEGIN:STANDARD
TZOFFSETFROM:+0200
TZOFFSETTO:+0100
TZNAME:CET
DTSTART:20241027T010000
END:STANDARD
END:VTIMEZONE
BEGIN:VEVENT
DTSTART;VALUE=DATE:20230330
DTEND;VALUE=DATE:20230331
DTSTAMP:20260423T001230
CREATED:20230302T080816Z
LAST-MODIFIED:20230302T080840Z
UID:23190-1680134400-1680220799@sjamouvaux.com
SUMMARY:Visite de l'église St Germain pour les GS
DESCRIPTION:
URL:https://sjamouvaux.com/event/visite-de-leglise-st-germain-pour-les-gs/
END:VEVENT
END:VCALENDAR